BEGIN:VCALENDAR
VERSION:2.0
PRODID:icalendar-ruby
CALSCALE:GREGORIAN
BEGIN:VEVENT
DTSTAMP:20260419T120438Z
UID:614b8d80-c3a5-4e9b-a5a2-ead62eaefff6
DTSTART;VALUE=DATE:20200808
DESCRIPTION:Property ID# 485367\, Locatoin: On Site\, Time: 2:00PM
SUMMARY:Auction for 
END:VEVENT
END:VCALENDAR
