BEGIN:VCALENDAR
VERSION:2.0
PRODID:icalendar-ruby
CALSCALE:GREGORIAN
BEGIN:VEVENT
DTSTAMP:20260422T210949Z
UID:c02f1703-6fb0-437b-a432-59e9bc9856b3
DTSTART;VALUE=DATE:20210603
DESCRIPTION:Property ID# 509867\, Locatoin: 149 Johnsonville Road\, Johnson
 ville\, Time: 1:00PM
SUMMARY:Auction for 
END:VEVENT
END:VCALENDAR
