BEGIN:VCALENDAR
VERSION:2.0
PRODID:icalendar-ruby
CALSCALE:GREGORIAN
BEGIN:VEVENT
DTSTAMP:20260425T104413Z
UID:26da6e50-00e6-41a6-a777-eb097cb89ab4
DTSTART;VALUE=DATE:20240313
DESCRIPTION:Property ID# 570397\, Locatoin: In Rooms \, Time: 1:00PM
SUMMARY:Auction for 
END:VEVENT
END:VCALENDAR
