BEGIN:VCALENDAR
VERSION:2.0
PRODID:icalendar-ruby
CALSCALE:GREGORIAN
BEGIN:VEVENT
DTSTAMP:20260421T022325Z
UID:db4f8a70-ead7-43d9-a824-1cb016428225
DTSTART;VALUE=DATE:20260401
DESCRIPTION:Property ID# 605128\, Locatoin: Lowe & Co Realty 8 Kent Terrace
 \, Mount Victoria\, Time: 2:00PM
SUMMARY:Auction for 4 Cobar Close
END:VEVENT
END:VCALENDAR
