BEGIN:VCALENDAR
VERSION:2.0
PRODID:icalendar-ruby
CALSCALE:GREGORIAN
BEGIN:VEVENT
DTSTAMP:20260421T022335Z
UID:5fc7fc83-06dc-47c5-88a4-05e2548d3a79
DTSTART;VALUE=DATE:20260429
DESCRIPTION:Property ID# 606481\, Locatoin: Lowe & Co Realty 8 Kent Terrace
 \, Mount Victoria\, Time: 2:00PM
SUMMARY:Auction for 94 Endeavour Street
END:VEVENT
END:VCALENDAR
