BEGIN:VCALENDAR
VERSION:2.0
PRODID:icalendar-ruby
CALSCALE:GREGORIAN
BEGIN:VEVENT
DTSTAMP:20260421T022203Z
UID:eba948b6-a176-414a-afcb-9b5963c35a59
DTSTART;TZID=Pacific/Auckland:20260419T133000
DTEND;TZID=Pacific/Auckland:20260419T140000
DESCRIPTION:Property ID# 605128
SUMMARY:Openhome for 4 Cobar Close
END:VEVENT
END:VCALENDAR
