BEGIN:VCALENDAR
VERSION:2.0
PRODID:icalendar-ruby
CALSCALE:GREGORIAN
BEGIN:VEVENT
DTSTAMP:20260421T022407Z
UID:2fa0e2c9-010b-42ca-966c-fc1cc8ed153a
DTSTART;TZID=Pacific/Auckland:20260419T150000
DTEND;TZID=Pacific/Auckland:20260419T153000
DESCRIPTION:Property ID# 605133
SUMMARY:Openhome for 380A Broadway
END:VEVENT
END:VCALENDAR
