BEGIN:VCALENDAR
VERSION:2.0
PRODID:icalendar-ruby
CALSCALE:GREGORIAN
BEGIN:VEVENT
DTSTAMP:20260421T023233Z
UID:c9ae0a27-f94a-4a3b-82fd-3ef471ec17dd
DTSTART;TZID=Pacific/Auckland:20260419T140000
DTEND;TZID=Pacific/Auckland:20260419T143000
DESCRIPTION:Property ID# 606173
SUMMARY:Openhome for 39 Tanera Crescent
END:VEVENT
END:VCALENDAR
