BEGIN:VCALENDAR
VERSION:2.0
PRODID:icalendar-ruby
CALSCALE:GREGORIAN
BEGIN:VEVENT
DTSTAMP:20260425T104511Z
UID:1acd3ebf-6b61-4b77-ae7d-b81399c5723f
DTSTART;TZID=Pacific/Auckland:20260426T130000
DTEND;TZID=Pacific/Auckland:20260426T133000
DESCRIPTION:Property ID# 596227
SUMMARY:Openhome for 882/233 Cuba Street
END:VEVENT
END:VCALENDAR
